BEGIN:VCALENDAR
VERSION:2.0
PRODID:icalendar-ruby
CALSCALE:GREGORIAN
METHOD:PUBLISH
BEGIN:VEVENT
DTSTAMP:20260420T133323Z
UID:10-307197@connectchurchcenla.org
DTSTART:20260509T010000Z
DTEND:20260509T040000Z
CLASS:PUBLIC
CREATED:20260408T150422
DESCRIPTION:Join us for a fun night of fellowship at the Book Nook in Ball!
  We will have some board games out and the coffee bar will be open to purc
 hase drinks! 
LAST-MODIFIED:20260408T150422
LOCATION:5508 Monroe Hwy\, Ball
SUMMARY:Fellowship Night
URL;VALUE=URI:https://www.connectchurchcenla.org/events/fellowship-night/20
 26-05-08
ATTACH;FILENAME=Pink-And-Green-Simple-Illustrated-Botanical-Plants-Basic-Pr
 esentation--1.jpg;FMTTYPE=image/jpeg:https://dq5pwpg1q8ru0.cloudfront.net/
 2026/04/08/22/04/22/82247f79-c4cb-4aac-ae0f-6133a7b8738b/Pink-And-Green-Si
 mple-Illustrated-Botanical-Plants-Basic-Presentation--1.jpg
END:VEVENT
END:VCALENDAR
