BEGIN:VCALENDAR
VERSION:2.0
PRODID:icalendar-ruby
CALSCALE:GREGORIAN
METHOD:PUBLISH
BEGIN:VEVENT
DTSTAMP:20260422T150120Z
UID:11-307198@connectchurchcenla.org
DTSTART:20260510T170000Z
DTEND:20260510T183000Z
CLASS:PUBLIC
CREATED:20260408T151527
DESCRIPTION:Join us for a fun Mother's Day service as we honor all of the m
 oms in the house! We will have a special breakfast between 9:30 &amp\; 10 
 (Moms Only!) so plan to get there early! 
LAST-MODIFIED:20260408T151527
LOCATION:Connect Church
SUMMARY:Mothers Day
URL;VALUE=URI:https://www.connectchurchcenla.org/events/mothers-day/2026-05
 -10
ATTACH;FILENAME=White-Watercolor-Floral-Rustic-Wedding-With-A-Wreath-Of-Wil
 dflowers-Invitation--5-x-7-in-7-x-5-in-Presentation.jpg;FMTTYPE=image/jpeg
 :https://dq5pwpg1q8ru0.cloudfront.net/2026/04/08/22/15/26/19b445d5-d72a-4e
 e2-8511-705bf6c7d8ca/White-Watercolor-Floral-Rustic-Wedding-With-A-Wreath-
 Of-Wildflowers-Invitation--5-x-7-in-7-x-5-in-Presentation.jpg
END:VEVENT
END:VCALENDAR
